BEGIN:VCALENDAR
VERSION:2.0
PRODID:-//PIFS - ECPv6.15.12.2//NONSGML v1.0//EN
CALSCALE:GREGORIAN
METHOD:PUBLISH
X-WR-CALNAME:PIFS
X-ORIGINAL-URL:https://www.pifsinternational.org
X-WR-CALDESC:Events for PIFS
REFRESH-INTERVAL;VALUE=DURATION:PT1H
X-Robots-Tag:noindex
X-PUBLISHED-TTL:PT1H
BEGIN:VTIMEZONE
TZID:Asia/Tokyo
BEGIN:STANDARD
TZOFFSETFROM:+0900
TZOFFSETTO:+0900
TZNAME:JST
DTSTART:20210101T000000
END:STANDARD
END:VTIMEZONE
BEGIN:VTIMEZONE
TZID:America/New_York
BEGIN:DAYLIGHT
TZOFFSETFROM:-0500
TZOFFSETTO:-0400
TZNAME:EDT
DTSTART:20210314T070000
END:DAYLIGHT
BEGIN:STANDARD
TZOFFSETFROM:-0400
TZOFFSETTO:-0500
TZNAME:EST
DTSTART:20211107T060000
END:STANDARD
BEGIN:DAYLIGHT
TZOFFSETFROM:-0500
TZOFFSETTO:-0400
TZNAME:EDT
DTSTART:20220313T070000
END:DAYLIGHT
BEGIN:STANDARD
TZOFFSETFROM:-0400
TZOFFSETTO:-0500
TZNAME:EST
DTSTART:20221106T060000
END:STANDARD
BEGIN:DAYLIGHT
TZOFFSETFROM:-0500
TZOFFSETTO:-0400
TZNAME:EDT
DTSTART:20230312T070000
END:DAYLIGHT
BEGIN:STANDARD
TZOFFSETFROM:-0400
TZOFFSETTO:-0500
TZNAME:EST
DTSTART:20231105T060000
END:STANDARD
END:VTIMEZONE
BEGIN:VEVENT
DTSTART;VALUE=DATE:20221115
DTEND;VALUE=DATE:20221117
DTSTAMP:20260421T122230
CREATED:20220827T023135Z
LAST-MODIFIED:20221116T211023Z
UID:10000034-1668470400-1668643199@www.pifsinternational.org
SUMMARY:China - US Symposium
DESCRIPTION:Virtual Event\n7am-10am ET\nTopics\n\nChina-U.S. cooperation of audit supervision and the prospects of Chinese stocks listed in the U.S.\nPotential risks of US-China financial decoupling\nPromotion of climate investment and financing by China and the U.S.\n\nRequest an Invitation
URL:https://www.pifsinternational.org/event/china-us-symposium/
CATEGORIES:Event
END:VEVENT
BEGIN:VEVENT
DTSTART;TZID=America/New_York:20221025T080000
DTEND;TZID=America/New_York:20221025T100000
DTSTAMP:20260421T122230
CREATED:20221025T182942Z
LAST-MODIFIED:20221025T191426Z
UID:10000064-1666684800-1666692000@www.pifsinternational.org
SUMMARY:2022 PIFS-Qatar Program
DESCRIPTION:
URL:https://www.pifsinternational.org/event/2021-pifs-qatar-program/
CATEGORIES:Event
ORGANIZER;CN="The Program on International Financial Systems (PIFS)":MAILTO:info@pifsinternational.org
END:VEVENT
BEGIN:VEVENT
DTSTART;VALUE=DATE:20221025
DTEND;VALUE=DATE:20221026
DTSTAMP:20260421T122230
CREATED:20220915T044753Z
LAST-MODIFIED:20220921T172640Z
UID:10000036-1666656000-1666742399@www.pifsinternational.org
SUMMARY:Fidelity Guest Lecture
DESCRIPTION:Guest Lecture with Paul Singer\, President of Elliott Management\nRequest an Invitation
URL:https://www.pifsinternational.org/event/fidelity-guest-lecture-2022/
CATEGORIES:Event
ORGANIZER;CN="The Program on International Financial Systems (PIFS)":MAILTO:info@pifsinternational.org
END:VEVENT
BEGIN:VEVENT
DTSTART;VALUE=DATE:20221011
DTEND;VALUE=DATE:20221012
DTSTAMP:20260421T122230
CREATED:20220827T022817Z
LAST-MODIFIED:20221006T164552Z
UID:10000033-1665446400-1665532799@www.pifsinternational.org
SUMMARY:Crypto Roundtable
DESCRIPTION:Roundtable on Institutional Investors and Crypto Assets\nKeynote Speaker:\n\nSir Jon Cunliffe\, Deputy Governor of the Bank of England for Financial Stability\nMichael Hsu\, Acting Comptroller of the Currency\, Office of the Comptroller of the currency (OCCC)\n\nTopics:\n\nCrypto Assets: Issues for Institutional Investors and Banks\nRegulation of Crypto Market Structure\nCross-Border Challenges with the Regulation of Crypto Assets\n\nRequest an Invitation\n 
URL:https://www.pifsinternational.org/event/roundtable-on-institutional-investors-and-crypto-assets/
LOCATION:The Mayflower Hotel\, Washington DC\, 1127 Connecticut Ave NW\, Washington\, DC\, 20036\, United States
CATEGORIES:Event
END:VEVENT
END:VCALENDAR