BEGIN:VCALENDAR
VERSION:2.0
PRODID:-//PIFS - ECPv6.15.12.2//NONSGML v1.0//EN
CALSCALE:GREGORIAN
METHOD:PUBLISH
X-WR-CALNAME:PIFS
X-ORIGINAL-URL:https://www.pifsinternational.org
X-WR-CALDESC:Events for PIFS
REFRESH-INTERVAL;VALUE=DURATION:PT1H
X-Robots-Tag:noindex
X-PUBLISHED-TTL:PT1H
BEGIN:VTIMEZONE
TZID:Asia/Tokyo
BEGIN:STANDARD
TZOFFSETFROM:+0900
TZOFFSETTO:+0900
TZNAME:JST
DTSTART:20210101T000000
END:STANDARD
END:VTIMEZONE
BEGIN:VTIMEZONE
TZID:America/New_York
BEGIN:DAYLIGHT
TZOFFSETFROM:-0500
TZOFFSETTO:-0400
TZNAME:EDT
DTSTART:20210314T070000
END:DAYLIGHT
BEGIN:STANDARD
TZOFFSETFROM:-0400
TZOFFSETTO:-0500
TZNAME:EST
DTSTART:20211107T060000
END:STANDARD
BEGIN:DAYLIGHT
TZOFFSETFROM:-0500
TZOFFSETTO:-0400
TZNAME:EDT
DTSTART:20220313T070000
END:DAYLIGHT
BEGIN:STANDARD
TZOFFSETFROM:-0400
TZOFFSETTO:-0500
TZNAME:EST
DTSTART:20221106T060000
END:STANDARD
BEGIN:DAYLIGHT
TZOFFSETFROM:-0500
TZOFFSETTO:-0400
TZNAME:EDT
DTSTART:20230312T070000
END:DAYLIGHT
BEGIN:STANDARD
TZOFFSETFROM:-0400
TZOFFSETTO:-0500
TZNAME:EST
DTSTART:20231105T060000
END:STANDARD
END:VTIMEZONE
BEGIN:VEVENT
DTSTART;VALUE=DATE:20221201
DTEND;VALUE=DATE:20221204
DTSTAMP:20260421T113333
CREATED:20220824T074726Z
LAST-MODIFIED:20220921T172602Z
UID:10000032-1669852800-1670111999@www.pifsinternational.org
SUMMARY:Japan - US Symposium
DESCRIPTION:The 2022 Symposium will be held in December in Washington\, D.C at the Mayflower Hotel. \nTopics\n\nFinancial sanctions: effectiveness and impact on the financial industry\nThe war in the Ukraine: consequences for international finance from a broader perspective\nThe battle against (de)(in)flation in Japan and U.S.: consequences of divergent policies across countries\n\nKeynote Speakers\n\nNellie Liang\, Under Secretary of Domestic Finance\, U.S. Treasury Department\nMasato Kanda\, Japanese Vice Minister of Finance for International Affairs\nWilbur Ross\, Former Secretary of Commerce\nScott Minerd\, Global CIO\, Guggenheim Partners\nEd Tilly\, CEO\, CBOE Global Markets\n\nRequest an Invitation
URL:https://www.pifsinternational.org/event/japan-us-symposium/
LOCATION:Mayflower Hotel\, 1127 Connecticut Ave NW\, Washington\, DC\, 20036\, United States
CATEGORIES:Event
ORGANIZER;CN="The Program on International Financial Systems (PIFS)":MAILTO:info@pifsinternational.org
END:VEVENT
BEGIN:VEVENT
DTSTART;TZID=America/New_York:20221212T090000
DTEND;TZID=America/New_York:20221216T153000
DTSTAMP:20260421T113333
CREATED:20221031T173112Z
LAST-MODIFIED:20221031T173112Z
UID:10000065-1670835600-1671204600@www.pifsinternational.org
SUMMARY:2022 IOSCO Global Certificate Program
DESCRIPTION:
URL:https://www.pifsinternational.org/event/2022-iosco-global-certificate-program/
LOCATION:Harvard Law School\, 1563 Massachusetts Avenue\, Cambridge\, MA\, United States
CATEGORIES:Event
ORGANIZER;CN="The Program on International Financial Systems (PIFS)":MAILTO:info@pifsinternational.org
END:VEVENT
END:VCALENDAR